BEGIN:VCALENDAR
VERSION:2.0
PRODID:-//hacksw/handcal//NONSGML v1.0//EN
BEGIN:VEVENT
SUMMARY:N°730-79km-776m
UID:88ba3774-59b7-4f2d-bab9-dd3484eb719f
DTSTART:20260425T220000Z
DTEND:20260426T220000Z
LOCATION:Localisation   
CATEGORIES:Sportif
STATUS:
DESCRIPTION:<p>N°730-79km-776m</p>
 
 <table>
 	<colgroup
 width="92">
 	</colgroup>
 	<colgroup
 width="52">
 	</colgroup>
 	<colgroup
 width="60">
 	</colgroup>
 	<colgroup
 width="67">
 	</colgroup>
 	<colgroup
 width="909">
 	</colgroup>
 	<colgroup
 width="422">
 	</colgroup>
 	<tbody>
 		<tr>
 			<td bgcolor="#CCFF66"
 style="background-color:#ccff66;height:40px;text-align:right;"
 valign="middle"><font color="#000000"
 size="3">26/04/2026</font></td>
 			<td
 style="text-align:right;"><font size="3">730</font></td>
 			<td
 bgcolor="#CCFF66" style="background-color:#ccff66;text-align:center;"
 valign="middle"><font color="#000000" size="3">79</font></td>
 			<td
 bgcolor="#CCFF66" style="background-color:#ccff66;text-align:center;"
 valign="middle"><font color="#000000" size="3">776</font></td>
 			<td
 bgcolor="#CCFF66" style="background-color:#ccff66;text-align:left;"
 valign="middle"><font color="#000000" size="3">St Anne - Romagne -
 Chapelle St Aubert - Vendel - St Marc Couesnon - St Ouen Alleux -
 Sens - St Remy Plain - Bazouges Perouse - Rimou - Chauvigne - St Marc
 le Blanc - Baille - St Sauveur - Romagne D812</font></td>
 			<td
 bgcolor="#CCFF66"
 style="background-color:#ccff66;text-align:center;"><font size="3"><a
 href="https://www.openrunner.com/route-details/23628407"
 target="_blank" rel="noreferrer
 noopener">https://www.openrunner.com/route-details/23628407</a></font></td>
 		</tr>
 	</tbody>
 </table>
URL;VALUE=URI:https://www.unioncyclistefougeres.fr/evenements/2026/04/26/n730-79km-776m-2432348
END:VEVENT
END:VCALENDAR
