BEGIN:VCALENDAR
VERSION:2.0
PRODID:-//hacksw/handcal//NONSGML v1.0//EN
BEGIN:VEVENT
SUMMARY:N°724-74km-715m
UID:db514db3-40c9-466e-85c3-1427843fc59d
DTSTART:20260418T220000Z
DTEND:20260419T220000Z
LOCATION:Localisation   
CATEGORIES:Sportif
STATUS:
DESCRIPTION:<p>N°724-74km-715m</p>
 
 <table>
 	<colgroup
 width="92">
 	</colgroup>
 	<colgroup
 width="52">
 	</colgroup>
 	<colgroup
 width="60">
 	</colgroup>
 	<colgroup
 width="67">
 	</colgroup>
 	<colgroup
 width="909">
 	</colgroup>
 	<colgroup
 width="422">
 	</colgroup>
 	<tbody>
 		<tr>
 			<td bgcolor="#CCFF66"
 style="background-color:#ccff66;height:40px;text-align:right;"
 valign="middle"><font color="#000000"
 size="3">19/04/2026</font></td>
 			<td
 style="text-align:right;"><font size="3">724</font></td>
 			<td
 bgcolor="#CCFF66" style="background-color:#ccff66;text-align:center;"
 valign="middle"><font color="#000000"
 size="3">73,5</font></td>
 			<td bgcolor="#CCFF66"
 style="background-color:#ccff66;text-align:center;"
 valign="middle"><font color="#000000" size="3">715</font></td>
 			<td
 bgcolor="#CCFF66" style="background-color:#ccff66;text-align:left;"
 valign="middle"><font color="#000000" size="3">Dompierre - Prince -
 Chatillon - St Christophe - Val d Ize - St Aubin - St Marc s Couesnon
 - Vendel - Romagne D112 - St Anne - Fougeres</font></td>
 			<td
 bgcolor="#CCFF66"
 style="background-color:#ccff66;text-align:center;"><font size="3"><a
 href="https://www.openrunner.com/route-details/23628361"
 target="_blank" rel="noreferrer
 noopener">https://www.openrunner.com/route-details/23628361</a></font></td>
 		</tr>
 	</tbody>
 </table>
URL;VALUE=URI:https://www.unioncyclistefougeres.fr/evenements/2026/04/19/n724-74km-715m-2432346
END:VEVENT
END:VCALENDAR
